BEGIN:VCALENDAR
VERSION:2.0
PRODID:-//Camara de Comercio Campo de Gibraltar - ECPv6.15.14//NONSGML v1.0//EN
CALSCALE:GREGORIAN
METHOD:PUBLISH
X-WR-CALNAME:Camara de Comercio Campo de Gibraltar
X-ORIGINAL-URL:https://camaracampodegibraltar.com
X-WR-CALDESC:Eventos para Camara de Comercio Campo de Gibraltar
REFRESH-INTERVAL;VALUE=DURATION:PT1H
X-Robots-Tag:noindex
X-PUBLISHED-TTL:PT1H
BEGIN:VTIMEZONE
TZID:Europe/Helsinki
BEGIN:DAYLIGHT
TZOFFSETFROM:+0200
TZOFFSETTO:+0300
TZNAME:EEST
DTSTART:20230326T010000
END:DAYLIGHT
BEGIN:STANDARD
TZOFFSETFROM:+0300
TZOFFSETTO:+0200
TZNAME:EET
DTSTART:20231029T010000
END:STANDARD
BEGIN:DAYLIGHT
TZOFFSETFROM:+0200
TZOFFSETTO:+0300
TZNAME:EEST
DTSTART:20240331T010000
END:DAYLIGHT
BEGIN:STANDARD
TZOFFSETFROM:+0300
TZOFFSETTO:+0200
TZNAME:EET
DTSTART:20241027T010000
END:STANDARD
BEGIN:DAYLIGHT
TZOFFSETFROM:+0200
TZOFFSETTO:+0300
TZNAME:EEST
DTSTART:20250330T010000
END:DAYLIGHT
BEGIN:STANDARD
TZOFFSETFROM:+0300
TZOFFSETTO:+0200
TZNAME:EET
DTSTART:20251026T010000
END:STANDARD
END:VTIMEZONE
BEGIN:VEVENT
DTSTART;TZID=Europe/Helsinki:20241212T093000
DTEND;TZID=Europe/Helsinki:20241212T110000
DTSTAMP:20260424T100529
CREATED:20240222T133151Z
LAST-MODIFIED:20241216T100819Z
UID:25848-1733995800-1734001200@camaracampodegibraltar.com
SUMMARY:Aprende las claves de una estrategia de sostenibilidad para tu pyme
DESCRIPTION:Aprende las claves de una estrategia de sostenibilidad en tu pyme\nEn la actualidad\, la sostenibilidad se ha convertido en un aspecto fundamental para las empresas\, independientemente de su tamaño. Las pequeñas y medianas empresas (pymes) juegan un papel crucial en la economía global y\, por lo tanto\, es esencial que también se sumen a la tendencia de adoptar prácticas sostenibles en sus operaciones. \nEs por ello que hemos diseñado un taller especializado en las claves de una estrategia de sostenibilidad para pymes. En este taller\, los participantes tendrán la oportunidad de adquirir los conocimientos necesarios para implementar prácticas sostenibles en su empresa\, contribuyendo así al cuidado del medio ambiente y a la creación de un mundo más justo y equitativo. \nDurante el curso\, los participantes aprenderán sobre: \n\nLos conceptos básicos de sostenibilidad.\nLa importancia de la responsabilidad social empresarial.\nLas ventajas competitivas de ser una empresa sostenible.\nLas herramientas y estrategias necesarias para llevar a cabo una transición hacia la sostenibilidad en su pyme.\n\nAdemás\, se abordarán casos de éxito de pymes que han logrado implementar con éxito prácticas sostenibles en sus operaciones\, así como los desafíos y obstáculos que pueden surgir en el camino y cómo superarlos. Por otro lado\, en el curso se explicarán las ayudas del programa Pyme Sostenible de la Cámara de Comercio. \nEste curso está dirigido a propietarios\, directivos y empleados de pymes que estén interesados en mejorar la sostenibilidad de su empresa y contribuir al desarrollo sostenible. No se requieren conocimientos previos en sostenibilidad\, ya que el curso está diseñado para ser accesible y comprensible para todos los participantes. \n¡Únete a nosotros y comienza a construir un futuro más sostenible para tu pyme y para el planeta! \nEste proyecto está impulsado por la Cámara de Comercio del Campo de Gibraltar a través de la Cámara de España y cofinanciado por el Fondo Europeo de Desarrollo Regional (FEDER) y por el área de Planificación\, Coordinación y Desarrollo Estratégico de la Diputación de Cádiz. \n#EuropaSeSiente \nFECHA Y HORARIO\n12 de diciembre de 2024 \nHorario: 09:30 a 11:00 \nMODALIDAD\nOnline \nPlataforma Zoom \nCONTENIDOS\nÍndice webinar Aprende las claves de una estrategia de sostenibilidad para tu pyme \n\nIntroducción a la sostenibilidad\nConceptos básicos de sostenibilidad\nImportancia de la sostenibilidad en las empresas\nImpacto de las PYMES en la economía global\n\nESG: nueva estrategia en las organizaciones\nE (Environmental): Impacto Ambiental\nS (Social): Impacto Social\nG (Governance): Impacto en Gobernanza \n\n¿Cómo impactará la normativa ESG en las empresas ?\nLa economía circular\nLas ayudas Pyme Sostenible de la Cámara de Comercio\n\nPONENTE\nDaniel Castañeda\nDaniel Castañeda es Licenciado en Ciencias Ambientales y Master en Gestión Ambiental y Gestión de la Calidad por la Universidad de Granada. MBA por la EOI\nProfesional con más de diez años de experiencia liderando proyectos y sistemas de gestión sostenible\, medioambiental y de calidad.\nÁreas de especialización:\n– Sostenibilidad en organizaciones y proyectos empresariales.\n– Auditorías y sistemas de gestión de la calidad y el medio ambiente.\n– Herramientas avanzadas de calidad: gestión por procesos\, balanced score card\, controles específicos de calidad en condiciones industriales\, Business Process Reengineering\, Indicadores de Sistemas de Gestión.\n– Proyectos medioambientales: inspección y control de la contaminación industrial (atmósfera\, aguas residuales\, residuos sólidos y líquidos\, ruido\, suelos potencialmente contaminados)\, diseño de procesos limpios y evaluación del impacto medioambiental.\n– Iniciativa empresarial\, start-ups y creación de empresas \nAcceder a la inscripción
URL:https://camaracampodegibraltar.com/event/aprende-las-claves-de-una-estrategia-sostenible/
CATEGORIES:EVENTO PASADO,PYME SOSTENIBLE
ATTACH;FMTTYPE=image/jpeg:https://camaracampodegibraltar.com/wp-content/uploads/2024/02/Claves-estrategia-sostenibilidad-pyme-Sostenibilidad-12dic.jpg
ORGANIZER;CN="C%C3%A1mara de Comercio del Campo de Gibraltar":MAILTO:camara@camaracg.com
END:VEVENT
END:VCALENDAR