BEGIN:VCALENDAR
VERSION:2.0
PRODID:-//Camara de Comercio Campo de Gibraltar - ECPv6.15.14//NONSGML v1.0//EN
CALSCALE:GREGORIAN
METHOD:PUBLISH
X-ORIGINAL-URL:https://camaracampodegibraltar.com
X-WR-CALDESC:Eventos para Camara de Comercio Campo de Gibraltar
REFRESH-INTERVAL;VALUE=DURATION:PT1H
X-Robots-Tag:noindex
X-PUBLISHED-TTL:PT1H
BEGIN:VTIMEZONE
TZID:Europe/Helsinki
BEGIN:DAYLIGHT
TZOFFSETFROM:+0200
TZOFFSETTO:+0300
TZNAME:EEST
DTSTART:20250330T010000
END:DAYLIGHT
BEGIN:STANDARD
TZOFFSETFROM:+0300
TZOFFSETTO:+0200
TZNAME:EET
DTSTART:20251026T010000
END:STANDARD
BEGIN:DAYLIGHT
TZOFFSETFROM:+0200
TZOFFSETTO:+0300
TZNAME:EEST
DTSTART:20260329T010000
END:DAYLIGHT
BEGIN:STANDARD
TZOFFSETFROM:+0300
TZOFFSETTO:+0200
TZNAME:EET
DTSTART:20261025T010000
END:STANDARD
BEGIN:DAYLIGHT
TZOFFSETFROM:+0200
TZOFFSETTO:+0300
TZNAME:EEST
DTSTART:20270328T010000
END:DAYLIGHT
BEGIN:STANDARD
TZOFFSETFROM:+0300
TZOFFSETTO:+0200
TZNAME:EET
DTSTART:20271031T010000
END:STANDARD
END:VTIMEZONE
BEGIN:VEVENT
DTSTART;TZID=Europe/Helsinki:20260317T090000
DTEND;TZID=Europe/Helsinki:20260430T140000
DTSTAMP:20260425T050704
CREATED:20251229T115801Z
LAST-MODIFIED:20260327T124910Z
UID:39795-1773738000-1777557600@camaracampodegibraltar.com
SUMMARY:Gestión administrativa y contable en la PYME
DESCRIPTION:Dentro de la agenda formativa Talento Joven 2026 de la Cámara de Comercio del Campo de Gibraltar lanzamos la formación específica TALENTO JOVEN: CURSO GESTIÓN ADMINISTRATIVA Y CONTABLE EN LA PYME .  \n¿Te interesa el mundo de la empresa\, pero no sabes por dónde empezar? \nEste curso es tu punto de partida. Con una formación práctica\, directa y pensada para las necesidades reales de las pequeñas y medianas empresas (PYMEs)\, aprenderás todo lo necesario para desenvolverte con soltura en tareas administrativas\, contables y de oficina. \nTanto si buscas tu primer empleo como si quieres ampliar tus oportunidades laborales\, aquí te damos las herramientas que necesitas para destacar. \nEste curso en gestión administrativa y contable de la PYME de 150 horas te permitirá enriquecer tu curriculum vitae y formarte para tu incorporación en un sector no solo necesario\, sino imprescindible\, en el mercado laboral actual. Recuerda que\, para poder realizar la formación\, deberás estar inscrito/a en  el Programa TALENTO JOVEN y haber finalizado la Formación Troncal. Si te surge cualquier duda\, no dudes en comunicarte con nosotros para que podamos resolvértela. \nCurso en Gestión administrativa y contable en la PYME – Formación específica TALENTO JOVEN\nEl curso en Gestión administrativa y contable es de carácter gratuito para el alumno y se imparte en modalidad presencial\, en la Cámara de Comercio del Campo de Gibraltar (Algeciras) en horario de mañana. \nPara participar en este curso debes estar inscrito en el Sistema Nacional de Garantía Juvenil y formar parte del Programa Talento Joven. Tanto si te interesa el curso como si tienes alguna duda\, completa el formulario de SOLICITUD DE PREINSCRIPCIÓN y nos pondremos en contacto contigo. \nEl Programa Talento Joven de la Cámara de Comercio es una iniciativa gratuita dirigida a menores de 30 años y está cofinanciada por el Fondo Social Europeo a través del FSE+ de Empleo Juvenil para el período 2021-2027. Los jóvenes deben estar inscritos en el Sistema Nacional de Garantía Juvenil\, proyecto impulsado por el Ministerio de Trabajo y Economía Social a través del Servicio Público de Empleo Estatal (SEPE). \n¡No dejes pasar esta oportunidad de formarte gratis! \nOBJETIVOS\nEl objetivo de esta formación es que adquieras conocimientos básicos en la gestión administrativa y contable de la PYME\, como puede ser: atención a cliente\, ofimática\, contabilidad y conceptos básicos de tesorería. \nCONTENIDOS\nCONTENIDOS: \n📁 Gestión Administrativa (30h)\n\n\nCómo organizar una oficina y realizar tareas administrativas básicas. \n\n\nTécnicas de comunicación para un trato profesional con clientes y proveedores. \n\n\nIntroducción a la tesorería: pagos\, cobros y operaciones bancarias básicas. \n\n\nClasificación\, archivo y reproducción de documentos\, tanto físicos como digitales. \n\n\n📊 Gestión Contable (90h)\n\n\nFundamentos de la contabilidad financiera: entenderás cómo se registra la actividad económica de una empresa. \n\n\nContabilidad informatizada: aprenderás a usar programas contables actuales y prácticos. \n\n\nCasos reales y ejercicios prácticos para aprender haciendo. \n\n\n🖥️ Ofimática y Seguridad en Internet (30h)\n\n\nBúsqueda de información fiable y uso eficaz del correo electrónico. \n\n\nCómo utilizar certificados digitales para trámites oficiales. \n\n\nHerramientas esenciales como Word\, Excel y Access\, aplicadas a la gestión de empresa. \n\n\nConsejos de seguridad para navegar y trabajar online sin riesgos. \n\n\nCALENDARIO Y HORARIOS\nDel 17 de marzo al 30 de abril\, días no lectivos 1\, 2 y 3 de abril \nDe lunes a viernes \nDe 9:00 a 14:00 h.
URL:https://camaracampodegibraltar.com/event/gestion-administrativa-y-contable-en-la-pyme-2026/
LOCATION:Cámara de Comercio del Campo de Gibraltar\, Paseo de Cornisa\, s/n –\, Algeciras.\, Cádiz\, 11204\, España
CATEGORIES:EVENTO PASADO,TALENTO JOVEN
ATTACH;FMTTYPE=image/jpeg:https://camaracampodegibraltar.com/wp-content/uploads/2025/12/Gestion-administrativa-y-contable-en-la-PYME.jpg
END:VEVENT
BEGIN:VEVENT
DTSTART;TZID=Europe/Helsinki:20260407T093000
DTEND;TZID=Europe/Helsinki:20260512T133000
DTSTAMP:20260425T050704
CREATED:20251223T135257Z
LAST-MODIFIED:20260327T125043Z
UID:39788-1775554200-1778592600@camaracampodegibraltar.com
SUMMARY:Atención sociosanitaria en instituciones sociales
DESCRIPTION:Dentro de la agenda formativa Talento Joven 2026 de la Cámara de Comercio del Campo de Gibraltar lanzamos la formación específica TALENTO JOVEN: ATENCIÓN SOCIOSANITARIA EN INSTITUCIONES SOCIALES\, un curso gratuito en Algeciras.  \nEste curso en cuidados sociosanitarios de 120 horas te permitirá enriquecer tu curriculum vitae y formarte para tu incorporación en un sector no solo necesario\, sino imprescindible\, en el mercado laboral actual. Recuerda que\, para poder realizar la formación\, deberás estar inscrito/a en  el Programa TALENTO JOVEN y haber finalizado la Formación Troncal. Si te surge cualquier duda\, no dudes en comunicarte con nosotros para que podamos resolvértela. \nCurso sector sanitario: Atención sociosanitaria en instituciones sociales en Algeciras.\nFormación específica TALENTO JOVEN\nEste curso en estética en Algeciras es de carácter gratuito para el alumno y se imparte en modalidad presencial\, en la Cámara de Comercio del Campo de Gibraltar (Algeciras). \nPara participar en este curso debes estar inscrito en el Sistema Nacional de Garantía Juvenil y formar parte del Programa Talento Joven. Tanto si te interesa el curso como si tienes alguna duda\, completa el formulario de SOLICITUD DE PREINSCRIPCIÓN y nos pondremos en contacto contigo a la mayor brevedad. \nEl Programa Talento Joven de la Cámara de Comercio es una iniciativa gratuita dirigida a menores de 30 años y está cofinanciada por el Fondo Social Europeo a través del FSE+ de Empleo Juvenil para el período 2021-2027. Los jóvenes deben estar inscritos en el Sistema Nacional de Garantía Juvenil\, proyecto impulsado por el Ministerio de Trabajo y Economía Social a través del Servicio Público de Empleo Estatal (SEPE). \n¡No dejes pasar esta oportunidad de apostar por tu futuro! \nOBJETIVOS\nEl objetivo de esta formación es que los alumnos adquieran conocimientos en el cuidado sociosanitario para atender en instituciones sociales. \nCONTENIDOS\nCONTENIDOS: \n\nApoyo en la recepción y acogida en instituciones de personal dependiente.\nIntervención en la atención higiénico-alimentaria.\nAnimación social para personas dependiente en instituciones.\nMantenimiento y mejora de las actividades diarias de personas dependientes en instituciones.\nTécnicas de comunicación con personas dependientes en instituciones\n\n    \nCALENDARIO Y HORARIOS\nAbril 2026 \nDe lunes a viernes \nDe 09.00 a 14.00
URL:https://camaracampodegibraltar.com/event/atencion-sociosanitaria-en-instituciones-sociales-2026/
LOCATION:Cámara de Comercio del Campo de Gibraltar\, Paseo de Cornisa\, s/n –\, Algeciras.\, Cádiz\, 11204\, España
CATEGORIES:EVENTO PASADO,TALENTO JOVEN
ATTACH;FMTTYPE=image/jpeg:https://camaracampodegibraltar.com/wp-content/uploads/2025/12/Atencion-sociosanitaria-en-instituciones-sociales.jpg
END:VEVENT
END:VCALENDAR